BEGIN:VCALENDAR
VERSION:2.0
PRODID:-//Georgetown American University - ECPv6.15.17.1//NONSGML v1.0//EN
CALSCALE:GREGORIAN
METHOD:PUBLISH
X-WR-CALNAME:Georgetown American University
X-ORIGINAL-URL:https://gau.edu.gy
X-WR-CALDESC:Events for Georgetown American University
REFRESH-INTERVAL;VALUE=DURATION:PT1H
X-Robots-Tag:noindex
X-PUBLISHED-TTL:PT1H
BEGIN:VTIMEZONE
TZID:UTC
BEGIN:STANDARD
TZOFFSETFROM:+0000
TZOFFSETTO:+0000
TZNAME:UTC
DTSTART:20240101T000000
END:STANDARD
END:VTIMEZONE
BEGIN:VEVENT
DTSTART;VALUE=DATE:20251205
DTEND;VALUE=DATE:20251206
DTSTAMP:20260423T152520
CREATED:20260210T211900Z
LAST-MODIFIED:20260210T211900Z
UID:12999-1764892800-1764979199@gau.edu.gy
SUMMARY:Graduation 2025
DESCRIPTION:
URL:https://gau.edu.gy/event/graduation-2025/
END:VEVENT
END:VCALENDAR