BEGIN:VCALENDAR
VERSION:2.0
PRODID:-//Georgetown American University - ECPv6.15.17.1//NONSGML v1.0//EN
CALSCALE:GREGORIAN
METHOD:PUBLISH
X-WR-CALNAME:Georgetown American University
X-ORIGINAL-URL:https://gau.edu.gy
X-WR-CALDESC:Events for Georgetown American University
REFRESH-INTERVAL;VALUE=DURATION:PT1H
X-Robots-Tag:noindex
X-PUBLISHED-TTL:PT1H
BEGIN:VTIMEZONE
TZID:UTC
BEGIN:STANDARD
TZOFFSETFROM:+0000
TZOFFSETTO:+0000
TZNAME:UTC
DTSTART:20240101T000000
END:STANDARD
END:VTIMEZONE
BEGIN:VEVENT
DTSTART;VALUE=DATE:20260407
DTEND;VALUE=DATE:20260411
DTSTAMP:20260423T083944
CREATED:20260210T212309Z
LAST-MODIFIED:20260210T212309Z
UID:13009-1775520000-1775865599@gau.edu.gy
SUMMARY:Spring Break
DESCRIPTION:
URL:https://gau.edu.gy/event/spring-break/
END:VEVENT
BEGIN:VEVENT
DTSTART;VALUE=DATE:20260130
DTEND;VALUE=DATE:20260131
DTSTAMP:20260423T083944
CREATED:20260210T212150Z
LAST-MODIFIED:20260210T212150Z
UID:13007-1769731200-1769817599@gau.edu.gy
SUMMARY:Career Guidance Seminar
DESCRIPTION:
URL:https://gau.edu.gy/event/career-guidance-seminar/
END:VEVENT
BEGIN:VEVENT
DTSTART;VALUE=DATE:20260112
DTEND;VALUE=DATE:20260113
DTSTAMP:20260423T083944
CREATED:20260210T212114Z
LAST-MODIFIED:20260210T212114Z
UID:13005-1768176000-1768262399@gau.edu.gy
SUMMARY:Safety Day
DESCRIPTION:
URL:https://gau.edu.gy/event/safety-day/
END:VEVENT
BEGIN:VEVENT
DTSTART;VALUE=DATE:20260105
DTEND;VALUE=DATE:20260106
DTSTAMP:20260423T083944
CREATED:20260210T212024Z
LAST-MODIFIED:20260210T212024Z
UID:13003-1767571200-1767657599@gau.edu.gy
SUMMARY:Commencement of Winter 2025
DESCRIPTION:
URL:https://gau.edu.gy/event/commencement-of-winter-2025/
END:VEVENT
BEGIN:VEVENT
DTSTART;VALUE=DATE:20251215
DTEND;VALUE=DATE:20251220
DTSTAMP:20260423T083944
CREATED:20260210T211941Z
LAST-MODIFIED:20260210T211941Z
UID:13001-1765756800-1766188799@gau.edu.gy
SUMMARY:Fall Final Exam week
DESCRIPTION:
URL:https://gau.edu.gy/event/fall-final-exam-week/
END:VEVENT
BEGIN:VEVENT
DTSTART;VALUE=DATE:20251205
DTEND;VALUE=DATE:20251206
DTSTAMP:20260423T083944
CREATED:20260210T211900Z
LAST-MODIFIED:20260210T211900Z
UID:12999-1764892800-1764979199@gau.edu.gy
SUMMARY:Graduation 2025
DESCRIPTION:
URL:https://gau.edu.gy/event/graduation-2025/
END:VEVENT
BEGIN:VEVENT
DTSTART;VALUE=DATE:20251013
DTEND;VALUE=DATE:20251018
DTSTAMP:20260423T083944
CREATED:20260210T211815Z
LAST-MODIFIED:20260210T211815Z
UID:12997-1760313600-1760745599@gau.edu.gy
SUMMARY:GAU Student Assessment Week
DESCRIPTION:
URL:https://gau.edu.gy/event/gau-student-assessment-week/
END:VEVENT
BEGIN:VEVENT
DTSTART;VALUE=DATE:20251003
DTEND;VALUE=DATE:20251004
DTSTAMP:20260423T083944
CREATED:20260210T211703Z
LAST-MODIFIED:20260210T211703Z
UID:12995-1759449600-1759535999@gau.edu.gy
SUMMARY:GAU White Coat Ceremony
DESCRIPTION:
URL:https://gau.edu.gy/event/gau-white-coat-ceremony/
END:VEVENT
BEGIN:VEVENT
DTSTART;VALUE=DATE:20250926
DTEND;VALUE=DATE:20250927
DTSTAMP:20260423T083944
CREATED:20260210T211606Z
LAST-MODIFIED:20260210T211606Z
UID:12993-1758844800-1758931199@gau.edu.gy
SUMMARY:Student Government General Meeting
DESCRIPTION:
URL:https://gau.edu.gy/event/student-government-general-meeting/
END:VEVENT
BEGIN:VEVENT
DTSTART;VALUE=DATE:20250926
DTEND;VALUE=DATE:20250927
DTSTAMP:20260423T083944
CREATED:20260210T211524Z
LAST-MODIFIED:20260210T211524Z
UID:12991-1758844800-1758931199@gau.edu.gy
SUMMARY:Yearbook Photoshoot schedule
DESCRIPTION:
URL:https://gau.edu.gy/event/yearbook-photoshoot-schedule/
END:VEVENT
BEGIN:VEVENT
DTSTART;VALUE=DATE:20250926
DTEND;VALUE=DATE:20250927
DTSTAMP:20260423T083944
CREATED:20260210T211410Z
LAST-MODIFIED:20260210T211410Z
UID:12989-1758844800-1758931199@gau.edu.gy
SUMMARY:GAU Students meet and greet
DESCRIPTION:
URL:https://gau.edu.gy/event/gau-students-meet-and-greet/
END:VEVENT
BEGIN:VEVENT
DTSTART;VALUE=DATE:20250908
DTEND;VALUE=DATE:20250909
DTSTAMP:20260423T083944
CREATED:20260210T211144Z
LAST-MODIFIED:20260210T211144Z
UID:12983-1757289600-1757375999@gau.edu.gy
SUMMARY:Commencement of Fall 2022
DESCRIPTION:
URL:https://gau.edu.gy/event/commencement-of-fall-2022/
END:VEVENT
END:VCALENDAR