BEGIN:VCALENDAR
VERSION:2.0
PRODID:-//Georgetown American University - ECPv6.15.17.1//NONSGML v1.0//EN
CALSCALE:GREGORIAN
METHOD:PUBLISH
X-ORIGINAL-URL:https://gau.edu.gy
X-WR-CALDESC:Events for Georgetown American University
REFRESH-INTERVAL;VALUE=DURATION:PT1H
X-Robots-Tag:noindex
X-PUBLISHED-TTL:PT1H
BEGIN:VTIMEZONE
TZID:UTC
BEGIN:STANDARD
TZOFFSETFROM:+0000
TZOFFSETTO:+0000
TZNAME:UTC
DTSTART:20250101T000000
END:STANDARD
END:VTIMEZONE
BEGIN:VEVENT
DTSTART;VALUE=DATE:20260420
DTEND;VALUE=DATE:20260425
DTSTAMP:20260421T082642
CREATED:20260210T212352Z
LAST-MODIFIED:20260210T212352Z
UID:13011-1776643200-1777075199@gau.edu.gy
SUMMARY:Winter Exam Week
DESCRIPTION:
URL:https://gau.edu.gy/event/winter-exam-week/
END:VEVENT
BEGIN:VEVENT
DTSTART;VALUE=DATE:20260504
DTEND;VALUE=DATE:20260505
DTSTAMP:20260421T082642
CREATED:20260210T212445Z
LAST-MODIFIED:20260210T212445Z
UID:13013-1777852800-1777939199@gau.edu.gy
SUMMARY:Commencement of Summer 2023
DESCRIPTION:
URL:https://gau.edu.gy/event/commencement-of-summer-2023/
END:VEVENT
BEGIN:VEVENT
DTSTART;VALUE=DATE:20260817
DTEND;VALUE=DATE:20260822
DTSTAMP:20260421T082642
CREATED:20260210T212546Z
LAST-MODIFIED:20260210T212546Z
UID:13015-1786924800-1787356799@gau.edu.gy
SUMMARY:Summer Final Exam week
DESCRIPTION:
URL:https://gau.edu.gy/event/summer-final-exam-week/
END:VEVENT
BEGIN:VEVENT
DTSTART;VALUE=DATE:20260831
DTEND;VALUE=DATE:20260901
DTSTAMP:20260421T082642
CREATED:20260210T212635Z
LAST-MODIFIED:20260210T212635Z
UID:13017-1788134400-1788220799@gau.edu.gy
SUMMARY:Commencement of Fall 2023
DESCRIPTION:
URL:https://gau.edu.gy/event/commencement-of-fall-2023/
END:VEVENT
END:VCALENDAR